BEGIN:VCALENDAR
VERSION:2.0
PRODID:-//Design CP Template PRO v2 - ECPv6.3.6//NONSGML v1.0//EN
CALSCALE:GREGORIAN
METHOD:PUBLISH
X-WR-CALNAME:Design CP Template PRO v2
X-ORIGINAL-URL:https://cptp.tki.tw
X-WR-CALDESC:Events for Design CP Template PRO v2
REFRESH-INTERVAL;VALUE=DURATION:PT1H
X-Robots-Tag:noindex
X-PUBLISHED-TTL:PT1H
BEGIN:VTIMEZONE
TZID:Asia/Taipei
BEGIN:STANDARD
TZOFFSETFROM:+0800
TZOFFSETTO:+0800
TZNAME:CST
DTSTART:20240101T000000
END:STANDARD
END:VTIMEZONE
BEGIN:VEVENT
DTSTART;VALUE=DATE:20240524
DTEND;VALUE=DATE:20240528
DTSTAMP:20260425T185004
CREATED:20240417T152349Z
LAST-MODIFIED:20240417T160911Z
UID:7128-1716508800-1716854399@cptp.tki.tw
SUMMARY:新一代設計展
DESCRIPTION:「新一代設計展」是全世界以學生為主最大型之設計展覽，自1981年開辦，是設計新秀展現創意的最佳平台，是協助企業及設計公司發掘優秀設計人才的專業平台。
URL:https://cptp.tki.tw/event/yodex/
CATEGORIES:展覽
END:VEVENT
BEGIN:VEVENT
DTSTART;TZID=Asia/Taipei:20240420T103000
DTEND;TZID=Asia/Taipei:20240420T123000
DTSTAMP:20260425T185004
CREATED:20240417T160222Z
LAST-MODIFIED:20240417T160908Z
UID:7150-1713609000-1713616200@cptp.tki.tw
SUMMARY:【兒童專注力訓練師認證】，請於活動4天前預約！
DESCRIPTION:業界第一張全面性的兒童全腦訓練認證。取得認證，即是您專業的保證！ \n教學內容 \n\n講座內容\n一、課程說明與體驗\n二、專注力訓練師未來發展\n三、認證流程說明Q&A
URL:https://cptp.tki.tw/event/childrens-concentration-trainer-certification/
CATEGORIES:免費講座
END:VEVENT
BEGIN:VEVENT
DTSTART;TZID=Asia/Taipei:20240412T100000
DTEND;TZID=Asia/Taipei:20240412T183000
DTSTAMP:20260425T185004
CREATED:20240417T160524Z
LAST-MODIFIED:20240417T161029Z
UID:7154-1712916000-1712946600@cptp.tki.tw
SUMMARY:筆墨見真章－故宮書法導賞
DESCRIPTION:書法是漢文化圈特有的藝術，長久以來在中國文化傳統中蔚成體系，也自然應用在日常生活裡，了無古今的隔閡。有關中國書法從古到今發展的歷程，始終是大家關心的課題，本項展覽即由此出發，揭示其間發展的脈絡。 \n秦漢時代是書法發展的關鍵時期，一方面三代以來古文大篆書寫、銘刻分歧的現象，歸於統一，產生標準書體小篆；另方面春秋戰國時代萌芽的新興書體隸書，也在此際從篆書簡省蛻化成熟，發展為漢代通行的書體。由於時代潮流趨向簡便快捷，隸書又持續蛻變分化，遂有草書、行書和楷書的形成。書體遞變原非朝夕立就，因此進入魏晉南北朝之後，過渡型書風以及各體參雜的混合書風時而可見，顯示書體蛻變遷延歲月，方能在結構和筆法上建立自己的規律。 \n隋唐時代是另一個關鍵時期，政治統一帶來南北各地書風會流，筆法發展臻於完備，從此楷書成為歷代通行的書體。入宋以後，為保存前賢書法長遠流傳，刻帖日漸盛行。但是宋人並不以繼承傳統為足，書法取向表現個人情性、得其天趣。 \n元代繼起，轉而提倡復古，晉唐書法傳統得以延續。然而，不受傳統束縛的意念也活躍起來，至明代浮現縱橫跳脫的氣息。明人書法面貌至為紛雜，行草書尤其活潑自由，適與當時依循傳統法度者形成對比。其間突顯個性自成一格的書家，也走出實現自己的路徑，不為時代潮流所吞沒。 \n清代以降，三代秦漢古文篆隸陸續出土，堪稱是得天獨厚。在務實的學術風氣影響之下，清人摩挲碑版，從而與刻帖相互為用，書法發展的視野得以串聯古今，終能在篆書、隸書兩方面汲古創新，引領新方向。
URL:https://cptp.tki.tw/event/the-pen-and-ink-reveal-the-true-meaning-a-guided-tour-of-the-forbidden-city-calligraphy/
CATEGORIES:展覽
END:VEVENT
END:VCALENDAR