BEGIN:VCALENDAR
VERSION:2.0
PRODID:-//Design CP Template PRO v2 - ECPv6.3.6//NONSGML v1.0//EN
CALSCALE:GREGORIAN
METHOD:PUBLISH
X-WR-CALNAME:Design CP Template PRO v2
X-ORIGINAL-URL:https://cptp.tki.tw
X-WR-CALDESC:Events for Design CP Template PRO v2
REFRESH-INTERVAL;VALUE=DURATION:PT1H
X-Robots-Tag:noindex
X-PUBLISHED-TTL:PT1H
BEGIN:VTIMEZONE
TZID:Asia/Taipei
BEGIN:STANDARD
TZOFFSETFROM:+0800
TZOFFSETTO:+0800
TZNAME:CST
DTSTART:20240101T000000
END:STANDARD
END:VTIMEZONE
BEGIN:VEVENT
DTSTART;TZID=Asia/Taipei:20240420T103000
DTEND;TZID=Asia/Taipei:20240420T123000
DTSTAMP:20260425T015234
CREATED:20240417T160222Z
LAST-MODIFIED:20240417T160908Z
UID:7150-1713609000-1713616200@cptp.tki.tw
SUMMARY:【兒童專注力訓練師認證】，請於活動4天前預約！
DESCRIPTION:業界第一張全面性的兒童全腦訓練認證。取得認證，即是您專業的保證！ \n教學內容 \n\n講座內容\n一、課程說明與體驗\n二、專注力訓練師未來發展\n三、認證流程說明Q&A
URL:https://cptp.tki.tw/event/childrens-concentration-trainer-certification/
CATEGORIES:免費講座
END:VEVENT
END:VCALENDAR